Workbook

Sheet стр.001
A1: za | T1: ИНН | BJ1: Приложение № 2 к приказу ФНС России от 20.08.2024 № БВ-7-14/665@
T4: КПП | AQ4: Стр. | AU4: 0 | AW4: 0 | AY4: 1
C7: Форма по КНД 1113415
A8: Заявление
A9: иностранного лица, указанного в пункте 4.6 статьи 83 Налогового кодекса Российской Федерации, об изменениях в ранее сообщенных в налоговый орган сведениях
A10: Заявление представлено | U10: 1 - иностранной организацией 2 - иностранным индивидуальным предпринимателем
A12: Прошу изменить сведения: | AW12: об иностранной организации | BX12: 1 - да 0 - нет
A15: об иностранном индивидуальном предпринимателе | AP15: 1 - да 0 - нет | AW15: об уполномоченном представителе | BX15: 1 - да 0 - нет
A18: о видах деятельности на территории Российской Федерации | AP18: 1 - да 0 - нет | AW18: о сайте в сети "Интернет" | BX18: 1 - да 0 - нет
A20: Виды деятельности на территории Российской Федерации:
A22: оказание услуг в электронной форме | AA22: 1 - да 0 - нет | AF22: реализация товаров посредством электронной торговой площадки | BX22: 1 - да 0 - нет
A24: Дата внесения изменений | AB24: . | AH24: .
A26: Иностранная организация
A33: (полное наименование в русской транскрипции)
A34: Иностранный индивидуальный предприниматель
A36: Фамилия
K37: (в русской транскрипции)
A38: Имя
K39: (в русской транскрипции)
A40: Отчество (при наличии)
K41: (в русской транскрипции)
A43: Настоящее заявление составлено на | AG43: страницах
A45: с приложением подтверждающих документов или их копий на | AW45: листах
A47: Достоверность и полноту сведений, указанных | AQ47: Заполняется работником налогового органа
A48: в настоящем заявлении, подтверждаю: | AQ48: Сведения о представлении заявления
D50: 1 - законный представитель организации/ индивидуальный предприниматель 2 - уполномоченный представитель | AR50: Данное заявление представлено (код)
AR53: на | BB53: страницах с приложением копии документа
AR56: на | BB56: листах
AR59: Дата представления заявления
A60: (фамилия, имя, отчество (при наличии) полностью) | BM60: . | BS60: .
A61: Номер контактного телефона
A66: Подпись | P66: Дата | Y66: . | AE66: .
A68: Наименование и реквизиты документа, подтверждающего полномочия представителя
AR72: Фамилия, имя, отчество (при наличии) | BN72: Подпись

Sheet стр.002
T1: ИНН | Y1: =IF(ISBLANK('стр.001'!Y1),"",'стр.001'!Y1) | AA1: =IF(ISBLANK('стр.001'!AA1),"",'стр.001'!AA1) | AC1: =IF(ISBLANK('стр.001'!AC1),"",'стр.001'!AC1) | AE1: =IF(ISBLANK('стр.001'!AE1),"",'стр.001'!AE1) | AG1: =IF(ISBLANK('стр.001'!AG1),"",'стр.001'!AG1) | AI1: =IF(ISBLANK('стр.001'!AI1),"",'стр.001'!AI1) | AK1: =IF(ISBLANK('стр.001'!AK1),"",'стр.001'!AK1) | AM1: =IF(ISBLANK('стр.001'!AM1),"",'стр.001'!AM1) | AO1: =IF(ISBLANK('стр.001'!AO1),"",'стр.001'!AO1) | AQ1: =IF(ISBLANK('стр.001'!AQ1),"",'стр.001'!AQ1) | AS1: =IF(ISBLANK('стр.001'!AS1),"",'стр.001'!AS1) | AU1: =IF(ISBLANK('стр.001'!AU1),"",'стр.001'!AU1)
T4: КПП | Y4: =IF(ISBLANK('стр.001'!Y4),"",'стр.001'!Y4) | AA4: =IF(ISBLANK('стр.001'!AA4),"",'стр.001'!AA4) | AC4: =IF(ISBLANK('стр.001'!AC4),"",'стр.001'!AC4) | AE4: =IF(ISBLANK('стр.001'!AE4),"",'стр.001'!AE4) | AG4: =IF(ISBLANK('стр.001'!AG4),"",'стр.001'!AG4) | AI4: =IF(ISBLANK('стр.001'!AI4),"",'стр.001'!AI4) | AK4: =IF(ISBLANK('стр.001'!AK4),"",'стр.001'!AK4) | AM4: =IF(ISBLANK('стр.001'!AM4),"",'стр.001'!AM4) | AO4: =IF(ISBLANK('стр.001'!AO4),"",'стр.001'!AO4) | AQ4: Стр.
CB6: Приложение № 1 к Заявлению
A7: Сведения об иностранной организации
A9: Полное наименование
A18: (в латинской транскрипции)
A19: Сокращенное наименование
A25: Код страны регистрации (инкорпорации)
A27: Полный адрес в стране регистрации (инкорпорации)
A35: Регистрационный номер, присвоенный регистрирующим органом в стране регистрации (инкорпорации)
A39: Код налогоплательщика в стране регистрации (инкорпорации) или его аналог
A43: Контактные данные
A45: Адрес электронной почты
A47: Номер контактного телефона
A49: Дата внесения изменений | Y49: . | AE49: .
A51: Сведения о сайте в сети "Интернет" иностранной организации
A52: Сайт в сети "Интернет" иностранной организации
A56: Дата внесения изменений | Y56: . | AE56: .
A58: Сведения об уполномоченном представителе иностранной организации
A60: Фамилия
A62: Имя
A64: Отчество
A65: (при наличии)
A67: Адрес электронной почты
A69: Номер контактного телефона
A71: Дата внесения изменений | Y71: . | AE71: .

Sheet стр.003
T1: ИНН | Y1: =IF(ISBLANK('стр.001'!Y1),"",'стр.001'!Y1) | AA1: =IF(ISBLANK('стр.001'!AA1),"",'стр.001'!AA1) | AC1: =IF(ISBLANK('стр.001'!AC1),"",'стр.001'!AC1) | AE1: =IF(ISBLANK('стр.001'!AE1),"",'стр.001'!AE1) | AG1: =IF(ISBLANK('стр.001'!AG1),"",'стр.001'!AG1) | AI1: =IF(ISBLANK('стр.001'!AI1),"",'стр.001'!AI1) | AK1: =IF(ISBLANK('стр.001'!AK1),"",'стр.001'!AK1) | AM1: =IF(ISBLANK('стр.001'!AM1),"",'стр.001'!AM1) | AO1: =IF(ISBLANK('стр.001'!AO1),"",'стр.001'!AO1) | AQ1: =IF(ISBLANK('стр.001'!AQ1),"",'стр.001'!AQ1) | AS1: =IF(ISBLANK('стр.001'!AS1),"",'стр.001'!AS1) | AU1: =IF(ISBLANK('стр.001'!AU1),"",'стр.001'!AU1)
T4: КПП | Y4: =IF(ISBLANK('стр.001'!Y4),"",'стр.001'!Y4) | AA4: =IF(ISBLANK('стр.001'!AA4),"",'стр.001'!AA4) | AC4: =IF(ISBLANK('стр.001'!AC4),"",'стр.001'!AC4) | AE4: =IF(ISBLANK('стр.001'!AE4),"",'стр.001'!AE4) | AG4: =IF(ISBLANK('стр.001'!AG4),"",'стр.001'!AG4) | AI4: =IF(ISBLANK('стр.001'!AI4),"",'стр.001'!AI4) | AK4: =IF(ISBLANK('стр.001'!AK4),"",'стр.001'!AK4) | AM4: =IF(ISBLANK('стр.001'!AM4),"",'стр.001'!AM4) | AO4: =IF(ISBLANK('стр.001'!AO4),"",'стр.001'!AO4) | AQ4: Стр.
CB6: Приложение № 2 к Заявлению
A7: Сведения об иностранном индивидуальном предпринимателе
A9: Фамилия
A10: (в латинской транскрипции)
A11: Имя
A12: (в латинской транскрипции)
A13: Отчество
A14: (при наличии) | K14: (в латинской транскрипции)
A16: Пол | L16: 1 - мужской 2 - женский | W16: Дата рождения | AM16: . | AS16: . | BF16: Код страны гражданства
A18: Место рождения
A22: Сведения о документе, удостоверяющем личность: | BJ22: Код вида документа
A24: Серия и номер | AZ24: Дата выдачи | BM24: . | BS24: .
A26: Полный адрес в стране гражданства
A36: Регистрационный номер, присвоенный регистрирующим органом в стране гражданства
A40: Код налогоплательщика в стране гражданства или его аналог
A44: Контактные данные
A46: Адрес электронной почты
A48: Номер контактного телефона
A50: Дата внесения изменений | Y50: . | AE50: .
A52: Сведения об уполномоченном представителе иностранного индивидуального предпринимателя
A54: Фамилия
A56: Имя
A58: Отчество
A59: (при наличии)
A61: Адрес электронной почты
A63: Номер контактного телефона
A65: Дата внесения изменений | Y65: . | AE65: .
